BEGIN:VCALENDAR
VERSION:2.0
PRODID:-//Ducker Carlisle - ECPv6.15.10//NONSGML v1.0//EN
CALSCALE:GREGORIAN
METHOD:PUBLISH
X-ORIGINAL-URL:https://www.duckercarlisle.com
X-WR-CALDESC:Events for Ducker Carlisle
REFRESH-INTERVAL;VALUE=DURATION:PT1H
X-Robots-Tag:noindex
X-PUBLISHED-TTL:PT1H
BEGIN:VTIMEZONE
TZID:America/Chicago
BEGIN:DAYLIGHT
TZOFFSETFROM:-0600
TZOFFSETTO:-0500
TZNAME:CDT
DTSTART:20210314T080000
END:DAYLIGHT
BEGIN:STANDARD
TZOFFSETFROM:-0500
TZOFFSETTO:-0600
TZNAME:CST
DTSTART:20211107T070000
END:STANDARD
BEGIN:DAYLIGHT
TZOFFSETFROM:-0600
TZOFFSETTO:-0500
TZNAME:CDT
DTSTART:20220313T080000
END:DAYLIGHT
BEGIN:STANDARD
TZOFFSETFROM:-0500
TZOFFSETTO:-0600
TZNAME:CST
DTSTART:20221106T070000
END:STANDARD
BEGIN:DAYLIGHT
TZOFFSETFROM:-0600
TZOFFSETTO:-0500
TZNAME:CDT
DTSTART:20230312T080000
END:DAYLIGHT
BEGIN:STANDARD
TZOFFSETFROM:-0500
TZOFFSETTO:-0600
TZNAME:CST
DTSTART:20231105T070000
END:STANDARD
BEGIN:DAYLIGHT
TZOFFSETFROM:-0600
TZOFFSETTO:-0500
TZNAME:CDT
DTSTART:20240310T080000
END:DAYLIGHT
BEGIN:STANDARD
TZOFFSETFROM:-0500
TZOFFSETTO:-0600
TZNAME:CST
DTSTART:20241103T070000
END:STANDARD
END:VTIMEZONE
BEGIN:VEVENT
DTSTART;VALUE=DATE:20230425
DTEND;VALUE=DATE:20230428
DTSTAMP:20260421T083759
CREATED:20221108T172102Z
LAST-MODIFIED:20221110T121535Z
UID:3821-1682380800-1682639999@www.duckercarlisle.com
SUMMARY:***NAPB 2023 Conference
DESCRIPTION:Condition of shipments is one of the most significant drivers of satisfaction for our dealers – understandably\, dealers want their parts to arrive in good condition.
URL:https://www.duckercarlisle.com/event/napb-2023-conference/
LOCATION:Universal City\, Universal City\, CA\, United States
CATEGORIES:North American Parts Benchmark
ATTACH;FMTTYPE=image/jpeg:https://www.duckercarlisle.com/wp-content/uploads/2022/11/blog-post.jpg
END:VEVENT
BEGIN:VEVENT
DTSTART;TZID=America/Chicago:20230105T150000
DTEND;TZID=America/Chicago:20230105T160000
DTSTAMP:20260421T083759
CREATED:20221108T171553Z
LAST-MODIFIED:20221110T121537Z
UID:3819-1672930800-1672934400@www.duckercarlisle.com
SUMMARY:***NAPB Monthly MetricWatch
DESCRIPTION:Condition of shipments is one of the most significant drivers of satisfaction for our dealers – understandably\, dealers want their parts to arrive in good condition.
URL:https://www.duckercarlisle.com/event/napb-monthly-metricwatch/
LOCATION:Webinar
CATEGORIES:North American Parts Benchmark
ATTACH;FMTTYPE=image/jpeg:https://www.duckercarlisle.com/wp-content/uploads/2022/11/blog-post.jpg
END:VEVENT
BEGIN:VEVENT
DTSTART;TZID=America/Chicago:20221201T150000
DTEND;TZID=America/Chicago:20221201T160000
DTSTAMP:20260421T083759
CREATED:20221108T171317Z
LAST-MODIFIED:20221110T121540Z
UID:3817-1669906800-1669910400@www.duckercarlisle.com
SUMMARY:***NAPB MetricWatch Monthly Meeting
DESCRIPTION:Condition of shipments is one of the most significant drivers of satisfaction for our dealers – understandably\, dealers want their parts to arrive in good condition.
URL:https://www.duckercarlisle.com/event/napb-metricwatch-monthly-meeting-9/
LOCATION:Webinar
CATEGORIES:North American Parts Benchmark
ATTACH;FMTTYPE=image/jpeg:https://www.duckercarlisle.com/wp-content/uploads/2022/11/blog-post.jpg
END:VEVENT
BEGIN:VEVENT
DTSTART;TZID=America/Chicago:20221110T150000
DTEND;TZID=America/Chicago:20221110T160000
DTSTAMP:20260421T083759
CREATED:20221108T170922Z
LAST-MODIFIED:20221110T121548Z
UID:3811-1668092400-1668096000@www.duckercarlisle.com
SUMMARY:***NASB 2023 Data Gatherer Kickoff Webinar
DESCRIPTION:Condition of shipments is one of the most significant drivers of satisfaction for our dealers – understandably\, dealers want their parts to arrive in good condition.
URL:https://www.duckercarlisle.com/event/nasb-2023-data-gatherer-kickoff-webinar/
LOCATION:CA
CATEGORIES:North American Parts Benchmark
ATTACH;FMTTYPE=image/jpeg:https://www.duckercarlisle.com/wp-content/uploads/2022/11/blog-post.jpg
END:VEVENT
BEGIN:VEVENT
DTSTART;TZID=America/Chicago:20221103T150000
DTEND;TZID=America/Chicago:20221103T160000
DTSTAMP:20260421T083759
CREATED:20221108T170804Z
LAST-MODIFIED:20221110T121741Z
UID:3809-1667487600-1667491200@www.duckercarlisle.com
SUMMARY:***NAPB MetricWatch Monthly Meeting
DESCRIPTION:Condition of shipments is one of the most significant drivers of satisfaction for our dealers – understandably\, dealers want their parts to arrive in good condition.
URL:https://www.duckercarlisle.com/event/napb-metricwatch-monthly-meeting-8/
LOCATION:Webinar
CATEGORIES:North American Parts Benchmark
ATTACH;FMTTYPE=image/jpeg:https://www.duckercarlisle.com/wp-content/uploads/2022/11/blog-post.jpg
END:VEVENT
BEGIN:VEVENT
DTSTART;TZID=America/Chicago:20221031T080000
DTEND;TZID=America/Chicago:20221031T090000
DTSTAMP:20260421T083759
CREATED:20221108T170336Z
LAST-MODIFIED:20221110T121954Z
UID:3805-1667203200-1667206800@www.duckercarlisle.com
SUMMARY:NAPB 2023 - Headcount\, Data Book\, Focus Days\, & Sub-Committees Deadline
DESCRIPTION:Condition of shipments is one of the most significant drivers of satisfaction for our dealers – understandably\, dealers want their parts to arrive in good condition.
URL:https://www.duckercarlisle.com/event/napb-2023-headcount-data-book-focus-days-sub-committees-deadline/
LOCATION:CA
CATEGORIES:North American Parts Benchmark
ATTACH;FMTTYPE=image/jpeg:https://www.duckercarlisle.com/wp-content/uploads/2022/11/blog-post.jpg
END:VEVENT
BEGIN:VEVENT
DTSTART;TZID=America/Chicago:20221025T150000
DTEND;TZID=America/Chicago:20221025T160000
DTSTAMP:20260421T083759
CREATED:20221108T170249Z
LAST-MODIFIED:20221108T172319Z
UID:3803-1666710000-1666713600@www.duckercarlisle.com
SUMMARY:***NAPB 2023 Data Gatherer Kickoff Webinar
DESCRIPTION:
URL:https://www.duckercarlisle.com/event/napb-2023-data-gatherer-kickoff-webinar-2/
LOCATION:CA
CATEGORIES:North American Parts Benchmark
ATTACH;FMTTYPE=image/jpeg:https://www.duckercarlisle.com/wp-content/uploads/2022/11/blog-post.jpg
END:VEVENT
BEGIN:VEVENT
DTSTART;TZID=America/Chicago:20221025T150000
DTEND;TZID=America/Chicago:20221025T160000
DTSTAMP:20260421T083759
CREATED:20221108T170101Z
LAST-MODIFIED:20221108T172319Z
UID:3801-1666710000-1666713600@www.duckercarlisle.com
SUMMARY:***NAPB 2023 Data Gatherer Kickoff Webinar
DESCRIPTION:
URL:https://www.duckercarlisle.com/event/napb-2023-data-gatherer-kickoff-webinar/
LOCATION:CA
CATEGORIES:North American Parts Benchmark
ATTACH;FMTTYPE=image/jpeg:https://www.duckercarlisle.com/wp-content/uploads/2022/11/blog-post.jpg
END:VEVENT
BEGIN:VEVENT
DTSTART;TZID=America/Chicago:20221025T080000
DTEND;TZID=America/Chicago:20221025T170000
DTSTAMP:20260421T083759
CREATED:20221108T165945Z
LAST-MODIFIED:20221108T172319Z
UID:3798-1666684800-1666717200@www.duckercarlisle.com
SUMMARY:***NAPB 2022 Supply Chain Leaders Focus Day
DESCRIPTION:
URL:https://www.duckercarlisle.com/event/napb-2022-supply-chain-leaders-focus-day/
LOCATION:CA
CATEGORIES:North American Parts Benchmark
ATTACH;FMTTYPE=image/jpeg:https://www.duckercarlisle.com/wp-content/uploads/2022/11/blog-post.jpg
END:VEVENT
BEGIN:VEVENT
DTSTART;TZID=America/Chicago:20221007T080000
DTEND;TZID=America/Chicago:20221007T170000
DTSTAMP:20260421T083759
CREATED:20221108T164940Z
LAST-MODIFIED:20221108T172320Z
UID:3788-1665129600-1665162000@www.duckercarlisle.com
SUMMARY:NAPB 2023 - OEM Representative Request Deadline
DESCRIPTION:
URL:https://www.duckercarlisle.com/event/napb-2023-oem-representative-request-deadline/
LOCATION:CA
CATEGORIES:North American Parts Benchmark
ATTACH;FMTTYPE=image/jpeg:https://www.duckercarlisle.com/wp-content/uploads/2022/11/blog-post.jpg
END:VEVENT
BEGIN:VEVENT
DTSTART;TZID=America/Chicago:20220930T170000
DTEND;TZID=America/Chicago:20220930T180000
DTSTAMP:20260421T083759
CREATED:20221108T164702Z
LAST-MODIFIED:20221108T172320Z
UID:3785-1664557200-1664560800@www.duckercarlisle.com
SUMMARY:2023 Non-Disclosure Agreement - Signature Request
DESCRIPTION:Dear NAPB Steering Committee Members\, \n  \nAs we prepare for the 2023 Conference season\, we will need an updated Non-Disclosure & Use Agreement for Proprietary Information. This process will be consistent with last year’s process. \nEach OEM will agree to the NDA at the company level\, with a single executive signing the NDA on behalf of the firm. Once we have this full NDA signed\, each individual participant will sign an individual acknowledgement that their company has signed the NDA. This acknowledgement is simply a statement that the participant has been informed of the terms of the agreement to which their employer has signed. \nYour OEM Executive can sign the full Non-Disclosure & Use Agreement for Proprietary Information electronically using SignNow\, which is a secured website.  Please use the following link: http://www.carlisleoemnda2023.com/ and follow the prompts to fill in the highlighted areas. In order for the signature to be valid\, you must use your OEM email address. \nUpon completion\, be sure to click the “Finish” button in the top right-hand corner of the screen\, where it will bring you to a page that gives you the option to download the signed document for your records. \n  \nThank you\, \nCarlisle Benchmarking Team
URL:https://www.duckercarlisle.com/event/2023-non-disclosure-agreement-signature-request-2/
LOCATION:CA
CATEGORIES:North American Parts Benchmark
ATTACH;FMTTYPE=image/jpeg:https://www.duckercarlisle.com/wp-content/uploads/2022/11/blog-post.jpg
END:VEVENT
BEGIN:VEVENT
DTSTART;VALUE=DATE:20220930
DTEND;VALUE=DATE:20221001
DTSTAMP:20260421T083759
CREATED:20221108T164544Z
LAST-MODIFIED:20221108T172320Z
UID:3783-1664496000-1664582399@www.duckercarlisle.com
SUMMARY:NAPB 2022 - Supply Chain Leaders Focus Day Questionnaire Due
DESCRIPTION:
URL:https://www.duckercarlisle.com/event/napb-2022-supply-chain-leaders-focus-day-questionnaire-due/
LOCATION:CA
CATEGORIES:North American Parts Benchmark
ATTACH;FMTTYPE=image/jpeg:https://www.duckercarlisle.com/wp-content/uploads/2022/11/blog-post.jpg
END:VEVENT
BEGIN:VEVENT
DTSTART;TZID=America/Chicago:20220927T080000
DTEND;TZID=America/Chicago:20220927T170000
DTSTAMP:20260421T083759
CREATED:20221108T164409Z
LAST-MODIFIED:20221108T172320Z
UID:3781-1664265600-1664298000@www.duckercarlisle.com
SUMMARY:***NAPB 2022 Packaging Focus Day
DESCRIPTION:
URL:https://www.duckercarlisle.com/event/napb-2022-packaging-focus-day-2/
LOCATION:Chicago\, Chicago\, IL\, United States
CATEGORIES:North American Parts Benchmark
ATTACH;FMTTYPE=image/jpeg:https://www.duckercarlisle.com/wp-content/uploads/2022/11/blog-post.jpg
END:VEVENT
BEGIN:VEVENT
DTSTART;TZID=America/Chicago:20220922T150000
DTEND;TZID=America/Chicago:20220922T160000
DTSTAMP:20260421T083759
CREATED:20221108T164325Z
LAST-MODIFIED:20221108T172320Z
UID:3779-1663858800-1663862400@www.duckercarlisle.com
SUMMARY:***NAPB MetricWatch Monthly Meeting
DESCRIPTION:
URL:https://www.duckercarlisle.com/event/napb-metricwatch-monthly-meeting-7/
LOCATION:Webinar
CATEGORIES:North American Parts Benchmark
ATTACH;FMTTYPE=image/jpeg:https://www.duckercarlisle.com/wp-content/uploads/2022/11/blog-post.jpg
END:VEVENT
BEGIN:VEVENT
DTSTART;TZID=America/Chicago:20220922T080000
DTEND;TZID=America/Chicago:20220922T170000
DTSTAMP:20260421T083759
CREATED:20221108T164214Z
LAST-MODIFIED:20221108T172320Z
UID:3777-1663833600-1663866000@www.duckercarlisle.com
SUMMARY:***NAPB RIM Focus Day
DESCRIPTION:
URL:https://www.duckercarlisle.com/event/napb-rim-focus-day-2/
LOCATION:Chicago\, Chicago\, IL\, United States
CATEGORIES:North American Parts Benchmark
ATTACH;FMTTYPE=image/jpeg:https://www.duckercarlisle.com/wp-content/uploads/2022/11/blog-post.jpg
END:VEVENT
BEGIN:VEVENT
DTSTART;TZID=America/Chicago:20220921T080000
DTEND;TZID=America/Chicago:20220921T170000
DTSTAMP:20260421T083759
CREATED:20221108T164114Z
LAST-MODIFIED:20221108T172320Z
UID:3774-1663747200-1663779600@www.duckercarlisle.com
SUMMARY:***NAPB RIM Focus Day
DESCRIPTION:
URL:https://www.duckercarlisle.com/event/napb-rim-focus-day/
LOCATION:Chicago\, Chicago\, IL\, United States
CATEGORIES:North American Parts Benchmark
ATTACH;FMTTYPE=image/jpeg:https://www.duckercarlisle.com/wp-content/uploads/2022/11/blog-post.jpg
END:VEVENT
BEGIN:VEVENT
DTSTART;TZID=America/Chicago:20220914T080000
DTEND;TZID=America/Chicago:20220914T160000
DTSTAMP:20260421T083759
CREATED:20221108T163921Z
LAST-MODIFIED:20221108T172320Z
UID:3771-1663142400-1663171200@www.duckercarlisle.com
SUMMARY:***NAPB 2023 Steering Committee Planning Meeting
DESCRIPTION:
URL:https://www.duckercarlisle.com/event/napb-2023-steering-committee-planning-meeting/
LOCATION:Austin\, Austin\, TX\, United States
CATEGORIES:North American Parts Benchmark
ATTACH;FMTTYPE=image/jpeg:https://www.duckercarlisle.com/wp-content/uploads/2022/11/blog-post.jpg
END:VEVENT
BEGIN:VEVENT
DTSTART;TZID=America/Chicago:20220825T150000
DTEND;TZID=America/Chicago:20220825T160000
DTSTAMP:20260421T083759
CREATED:20221108T163339Z
LAST-MODIFIED:20221108T172320Z
UID:3767-1661439600-1661443200@www.duckercarlisle.com
SUMMARY:***NAPB MetricWatch Monthly Meeting
DESCRIPTION:
URL:https://www.duckercarlisle.com/event/napb-metricwatch-monthly-meeting-6/
LOCATION:Webinar
CATEGORIES:North American Parts Benchmark
ATTACH;FMTTYPE=image/jpeg:https://www.duckercarlisle.com/wp-content/uploads/2022/11/blog-post.jpg
END:VEVENT
BEGIN:VEVENT
DTSTART;TZID=America/Chicago:20220824T140000
DTEND;TZID=America/Chicago:20220824T150000
DTSTAMP:20260421T083759
CREATED:20221108T163006Z
LAST-MODIFIED:20221108T172320Z
UID:3765-1661349600-1661353200@www.duckercarlisle.com
SUMMARY:***Carlisle's Women in Aftersales for the Projecting Credibility & Confidence Webinar
DESCRIPTION:Carlisle’s Women in Aftersales is excited to present Projecting Credibility & Confidence facilitated by SpeechSkills! Join us August 24th and learn how the power of the “subtextual” conversation—body language\, vocal patterns\, and mannerisms that can raise or lower one’s status in the workplace.\nDuring this webinar you will discover how to cultivate personal presence\, recognize/prevent the “tells” of nervousness and intimidation\, strike a balance between authority and approachability\, as well as many other skills to transform your career. \nRegister Now: Webinar Registration – Zoom
URL:https://www.duckercarlisle.com/event/carlisles-women-in-aftersales-for-the-projecting-credibility-confidence-webinar/
LOCATION:Webinar
CATEGORIES:North American Parts Benchmark
ATTACH;FMTTYPE=image/jpeg:https://www.duckercarlisle.com/wp-content/uploads/2022/11/blog-post.jpg
END:VEVENT
BEGIN:VEVENT
DTSTART;VALUE=DATE:20220824
DTEND;VALUE=DATE:20220825
DTSTAMP:20260421T083759
CREATED:20221108T162904Z
LAST-MODIFIED:20221108T172320Z
UID:3763-1661299200-1661385599@www.duckercarlisle.com
SUMMARY:NAPB 2022 Packaging Focus Day Pre-work Due
DESCRIPTION:
URL:https://www.duckercarlisle.com/event/napb-2022-packaging-focus-day-pre-work-due/
LOCATION:CA
CATEGORIES:North American Parts Benchmark
ATTACH;FMTTYPE=image/jpeg:https://www.duckercarlisle.com/wp-content/uploads/2022/11/blog-post.jpg
END:VEVENT
BEGIN:VEVENT
DTSTART;TZID=America/Chicago:20220804T150000
DTEND;TZID=America/Chicago:20220804T160000
DTSTAMP:20260421T083759
CREATED:20221108T162739Z
LAST-MODIFIED:20221108T172321Z
UID:3759-1659625200-1659628800@www.duckercarlisle.com
SUMMARY:***NAPB 2022 Supply Chain Leaders Webinar
DESCRIPTION:
URL:https://www.duckercarlisle.com/event/napb-2022-supply-chain-leaders-webinar-2/
LOCATION:Webinar
CATEGORIES:North American Parts Benchmark
ATTACH;FMTTYPE=image/jpeg:https://www.duckercarlisle.com/wp-content/uploads/2022/11/blog-post.jpg
END:VEVENT
BEGIN:VEVENT
DTSTART;TZID=America/Chicago:20220801T150000
DTEND;TZID=America/Chicago:20220801T160000
DTSTAMP:20260421T083759
CREATED:20221108T162654Z
LAST-MODIFIED:20221108T172321Z
UID:3757-1659366000-1659369600@www.duckercarlisle.com
SUMMARY:***NAPB MetricWatch Monthly Meeting
DESCRIPTION:
URL:https://www.duckercarlisle.com/event/napb-metricwatch-monthly-meeting-5/
LOCATION:Webinar
CATEGORIES:North American Parts Benchmark
ATTACH;FMTTYPE=image/jpeg:https://www.duckercarlisle.com/wp-content/uploads/2022/11/blog-post.jpg
END:VEVENT
BEGIN:VEVENT
DTSTART;VALUE=DATE:20220729
DTEND;VALUE=DATE:20220730
DTSTAMP:20260421T083759
CREATED:20221108T162503Z
LAST-MODIFIED:20221108T172321Z
UID:3755-1659052800-1659139199@www.duckercarlisle.com
SUMMARY:Supply Chain Leaders Questionnaire Due
DESCRIPTION:
URL:https://www.duckercarlisle.com/event/supply-chain-leaders-questionnaire-due/
LOCATION:CA
CATEGORIES:North American Parts Benchmark
ATTACH;FMTTYPE=image/jpeg:https://www.duckercarlisle.com/wp-content/uploads/2022/11/blog-post.jpg
END:VEVENT
BEGIN:VEVENT
DTSTART;VALUE=DATE:20220729
DTEND;VALUE=DATE:20220730
DTSTAMP:20260421T083759
CREATED:20221108T162430Z
LAST-MODIFIED:20221108T172321Z
UID:3753-1659052800-1659139199@www.duckercarlisle.com
SUMMARY:NAPB 2022 RIM Pre-work Due
DESCRIPTION:
URL:https://www.duckercarlisle.com/event/napb-2022-rim-pre-work-due/
LOCATION:CA
CATEGORIES:North American Parts Benchmark
ATTACH;FMTTYPE=image/jpeg:https://www.duckercarlisle.com/wp-content/uploads/2022/11/blog-post.jpg
END:VEVENT
BEGIN:VEVENT
DTSTART;TZID=America/Chicago:20220721T080000
DTEND;TZID=America/Chicago:20220721T090000
DTSTAMP:20260421T083759
CREATED:20221108T162352Z
LAST-MODIFIED:20221108T172321Z
UID:3751-1658390400-1658394000@www.duckercarlisle.com
SUMMARY:NAPB 2023 Distribution List and Logo Confirmation - BMW
DESCRIPTION:Dear Dom\, \nAs we begin the NAPB 2023 Conference process\, we want to make sure that we have your company’s most up-to-date information on file. To do this\, we have two action items below. \n\nContact Information Lists: Please review the attached Excel document to:\n\nConfirm that all Steering Committee Members and Data Gatherers are accurate. Please make any changes directly to the document in red.\nPlease fill in any missing information\, highlighted in yellow.\nNote that Carlisle suggests having only 1-2 Steering Committee Members and Data Gatherers. If your team would like to have additional contacts\, please highlight the name of the primary contact directly in the Excel document. This will be our first point of contact to reach out to if we have questions\, etc.\nConfirm the list of CAP and Tableau users is correct. If anyone has left the company\, please let us know so we can remove their access ASAP.\n\n\n\n  \n\nOEM Logo Confirmation: Please confirm that the attached logo is accurate\n\nIf you have a new logo\, please send a high-resolution file of the new logo\, ideally a jpg or png file with a clear background\n\n\n\nPlease review the attached materials and send back your approval or any changes by Monday\, August 1st. \nThank you\, \n 
URL:https://www.duckercarlisle.com/event/napb-2023-distribution-list-and-logo-confirmation-bmw/
LOCATION:CA
CATEGORIES:North American Parts Benchmark
ATTACH;FMTTYPE=image/jpeg:https://www.duckercarlisle.com/wp-content/uploads/2022/11/blog-post.jpg
END:VEVENT
BEGIN:VEVENT
DTSTART;TZID=America/Chicago:20220622T150000
DTEND;TZID=America/Chicago:20220622T160000
DTSTAMP:20260421T083759
CREATED:20221108T162146Z
LAST-MODIFIED:20221108T172321Z
UID:3749-1655910000-1655913600@www.duckercarlisle.com
SUMMARY:***NAPB MetricWatch Monthly Meeting
DESCRIPTION:
URL:https://www.duckercarlisle.com/event/napb-metricwatch-monthly-meeting-4/
LOCATION:Webinar
CATEGORIES:North American Parts Benchmark
ATTACH;FMTTYPE=image/jpeg:https://www.duckercarlisle.com/wp-content/uploads/2022/11/blog-post.jpg
END:VEVENT
BEGIN:VEVENT
DTSTART;TZID=America/Chicago:20220609T130000
DTEND;TZID=America/Chicago:20220609T170000
DTSTAMP:20260421T083759
CREATED:20221108T162002Z
LAST-MODIFIED:20221108T172321Z
UID:3747-1654779600-1654794000@www.duckercarlisle.com
SUMMARY:***Packaging Webinar
DESCRIPTION:
URL:https://www.duckercarlisle.com/event/packaging-webinar/
LOCATION:Webinar
CATEGORIES:North American Parts Benchmark
ATTACH;FMTTYPE=image/jpeg:https://www.duckercarlisle.com/wp-content/uploads/2022/11/blog-post.jpg
END:VEVENT
BEGIN:VEVENT
DTSTART;TZID=America/Chicago:20220526T150000
DTEND;TZID=America/Chicago:20220526T160000
DTSTAMP:20260421T083759
CREATED:20221108T161836Z
LAST-MODIFIED:20221108T172321Z
UID:3745-1653577200-1653580800@www.duckercarlisle.com
SUMMARY:***NAPB MetricWatch Monthly Meeting
DESCRIPTION:
URL:https://www.duckercarlisle.com/event/napb-metricwatch-monthly-meeting-3/
LOCATION:CA
CATEGORIES:North American Parts Benchmark
ATTACH;FMTTYPE=image/jpeg:https://www.duckercarlisle.com/wp-content/uploads/2022/11/blog-post.jpg
END:VEVENT
BEGIN:VEVENT
DTSTART;TZID=America/Chicago:20220505T150000
DTEND;TZID=America/Chicago:20220505T160000
DTSTAMP:20260421T083759
CREATED:20221108T161310Z
LAST-MODIFIED:20221108T172321Z
UID:3738-1651762800-1651766400@www.duckercarlisle.com
SUMMARY:***NAPB MetricWatch Monthly Meeting
DESCRIPTION:
URL:https://www.duckercarlisle.com/event/napb-metricwatch-monthly-meeting-2/
LOCATION:CA
CATEGORIES:North American Parts Benchmark
ATTACH;FMTTYPE=image/jpeg:https://www.duckercarlisle.com/wp-content/uploads/2022/11/blog-post.jpg
END:VEVENT
BEGIN:VEVENT
DTSTART;TZID=America/Chicago:20220503T140000
DTEND;TZID=America/Chicago:20220503T150000
DTSTAMP:20260421T083759
CREATED:20221108T160357Z
LAST-MODIFIED:20221108T172322Z
UID:3734-1651586400-1651590000@www.duckercarlisle.com
SUMMARY:***NAPB 2022 Steering Committee Debrief
DESCRIPTION:
URL:https://www.duckercarlisle.com/event/napb-2022-steering-committee-debrief/
LOCATION:CA
CATEGORIES:North American Parts Benchmark
ATTACH;FMTTYPE=image/jpeg:https://www.duckercarlisle.com/wp-content/uploads/2022/11/blog-post.jpg
END:VEVENT
END:VCALENDAR